BEGIN:VCALENDAR
VERSION:2.0
PRODID:SFPL Web Calendar
BEGIN:VEVENT
UID:153163@sfpl.org
DTSTAMP:20260815T183000Z
DTSTART:20260815T183000Z
DTEND:20260815T193000Z
SUMMARY:Presentation: Insect Discovery Lab with SaveNature.Org
DESCRIPTION:<p>Explore the fantastic lives of beetles, millipedes, hissing cockroaches, walking sticks, whip scorpions and more. Learn about the extraordinarily diverse world of insects, other arthropods and their key role in the web of life. Use scientific observation, learn the skills of insect identification and the natural history of arthropods. Spark curiosity, deepen understanding and foster a love for nature. Space limited. Reservations required: (415) 355-2880 (starting August 1).</p>
LOCATION:Presidio - Presidio Meeting Room
CLASS:PUBLIC
TRANSP:TRANSPARENT
END:VEVENT
BEGIN:VALARM
TRIGGER:-PT1440M
ACTION:DISPLAY
DESCRIPTION:Event Reminder - Presentation: Insect Discovery Lab with SaveNature.Org
END:VALARM
END:VCALENDAR