BEGIN:VCALENDAR
VERSION:2.0
PRODID:SFPL Web Calendar
BEGIN:VEVENT
UID:153897@sfpl.org
DTSTAMP:20260620T210000Z
DTSTART:20260620T210000Z
DTEND:20260620T220000Z
SUMMARY:Presentation: Insect Discovery Lab with SaveNature.Org
DESCRIPTION:<p>Explore the fantastic lives of beetles, millipedes, hissing cockroaches, walking sticks, whip scorpions and more! Our presenters will introduce your group to the extraordinarily diverse world of insects and other arthropods and teach you about their key role in the web of life. This interactive program emphasizes scientific observation, insect identification and the natural history of arthropods. Join us to spark curiosity, deepen understanding and foster a love for nature!</p><p>Space limited. Reservations required: (415) 355-2858.</p><p>Connect:<a href="https://www.savenature.org/"> SaveNature.Org – Website</a></p>
LOCATION:Glen Park - Glen Park Meeting Room
CLASS:PUBLIC
TRANSP:TRANSPARENT
END:VEVENT
BEGIN:VALARM
TRIGGER:-PT1440M
ACTION:DISPLAY
DESCRIPTION:Event Reminder - Presentation: Insect Discovery Lab with SaveNature.Org
END:VALARM
END:VCALENDAR