BEGIN:VCALENDAR
VERSION:2.0
PRODID:SFPL Web Calendar
BEGIN:VEVENT
UID:153907@sfpl.org
DTSTAMP:20260714T220000Z
DTSTART:20260714T220000Z
DTEND:20260714T230000Z
SUMMARY:Workshop: Rainbow Breakfast Bowls
DESCRIPTION:<p>Celebrate the season and make a nutritious rainbow chia porridge breakfast bowl. For children and their caregivers.</p><p>Space limited. Reservations required beginning July 1st : (415) 355- 5717.</p><p>Connect: <a href="https://www.breakfastproject.org/">The Breakfast Project – Website</a></p>
LOCATION:Anza - Anza Meeting Room
CLASS:PUBLIC
TRANSP:TRANSPARENT
END:VEVENT
BEGIN:VALARM
TRIGGER:-PT1440M
ACTION:DISPLAY
DESCRIPTION:Event Reminder - Workshop: Rainbow Breakfast Bowls
END:VALARM
END:VCALENDAR