BEGIN:VCALENDAR
VERSION:2.0
PRODID:SFPL Web Calendar
BEGIN:VEVENT
UID:153999@sfpl.org
DTSTAMP:20260801T190000Z
DTSTART:20260801T190000Z
DTEND:20260801T200000Z
SUMMARY:Activity: DIY Loom Knitting
DESCRIPTION:<p>Creating your own knitting loom using household materials and learn knitting stitches. Instruction is provided. For ages 6 and older.</p><p>&nbsp;</p>
LOCATION:Ingleside - Ingleside Meeting Room
CLASS:PUBLIC
TRANSP:TRANSPARENT
END:VEVENT
BEGIN:VALARM
TRIGGER:-PT1440M
ACTION:DISPLAY
DESCRIPTION:Event Reminder - Activity: DIY Loom Knitting
END:VALARM
END:VCALENDAR