BEGIN:VCALENDAR
VERSION:2.0
PRODID:SFPL Web Calendar
BEGIN:VEVENT
UID:154121@sfpl.org
DTSTAMP:20260613T210000Z
DTSTART:20260613T210000Z
DTEND:20260613T220000Z
SUMMARY:Social: "Rock the Bike" Fruit Smoothie
DESCRIPTION:<p>Pedal the "Rock the Bike" blender to make fruit smoothies.</p><p>For ages 8–18.</p>
LOCATION:Excelsior - Excelsior Meeting Room
CLASS:PUBLIC
TRANSP:TRANSPARENT
END:VEVENT
BEGIN:VALARM
TRIGGER:-PT1440M
ACTION:DISPLAY
DESCRIPTION:Event Reminder - Social: "Rock the Bike" Fruit Smoothie
END:VALARM
END:VCALENDAR