BEGIN:VCALENDAR
VERSION:2.0
PRODID:SFPL Web Calendar
BEGIN:VEVENT
UID:154359@sfpl.org
DTSTAMP:20260516T210000Z
DTSTART:20260516T210000Z
DTEND:20260516T223000Z
SUMMARY:Workshop: Bojagi -- The Art of Korean Sustainable Gifting
DESCRIPTION:<p>Learn to do Bojagi, a Korean tradition of wrapping and storing items with fabric, led by Judy Kim. &nbsp;</p><p>Space limited. Reservations required: (415) 355-2825 or sign up at the reference desk (beginning May 1).</p>
LOCATION:Merced - Merced General Floor Area
CLASS:PUBLIC
TRANSP:TRANSPARENT
END:VEVENT
BEGIN:VALARM
TRIGGER:-PT1440M
ACTION:DISPLAY
DESCRIPTION:Event Reminder - Workshop: Bojagi -- The Art of Korean Sustainable Gifting
END:VALARM
END:VCALENDAR