BEGIN:VCALENDAR
VERSION:2.0
PRODID:SFPL Web Calendar
BEGIN:VEVENT
UID:154410@sfpl.org
DTSTAMP:20260813T223000Z
DTSTART:20260813T223000Z
DTEND:20260813T233000Z
SUMMARY:Activity: KEVA Contraptions Free Play
DESCRIPTION:<p>Use the wooden planks to build structures and then bounce, twist and roll the balls through your contraption. For children ages 6 and older.</p>
LOCATION:Ingleside - Ingleside Meeting Room
CLASS:PUBLIC
TRANSP:TRANSPARENT
END:VEVENT
BEGIN:VALARM
TRIGGER:-PT1440M
ACTION:DISPLAY
DESCRIPTION:Event Reminder - Activity: KEVA Contraptions Free Play
END:VALARM
END:VCALENDAR