BEGIN:VCALENDAR
VERSION:2.0
PRODID:SFPL Web Calendar
BEGIN:VEVENT
UID:154459@sfpl.org
DTSTAMP:20260527T010000Z
DTSTART:20260527T010000Z
DTEND:20260527T023000Z
SUMMARY:Panel: Money, please! Fundraising and the Art of the Ask
DESCRIPTION:<p>Art and literary nonprofits often depend on the kindness of strangers to secure funding and serve the public. How do they do it? What does it take to support the arts in today’s economic climate? Hear from experts on both sides of the grant-making process as they discuss the ways philanthropy and the tricky task of asking for money create a sustainable arts ecosystem that serves us all. With executive directors J. K. Fowler (Bay Area Book Festival), Kamala Tully (Mesa Refuge), artist and grant-writer JD Beltran, and philanthropic leader Dimple Abichandani. Moderated by Elizabeth Forsyth (The Writers Grotto, Local Words). Curated by Janine Kovac.</p><p>Perfect for writers, grant-makers, and anyone who wants to see literary nonprofits thrive in Bay Area.</p><p>Panelists:</p><p><strong>Dimple Abichandani</strong> is a nationally recognized philanthropic leader, writer, and lawyer. She is the author of <i>A New Era of Philanthropy: Ten Practices to Transform Wealth Into a More Just Future</i>, that offers fresh answers to the question of how philanthropy can meet this moment. She serves on the Board of Directors of Soldaire Network and has served on the boards/steering committees of the Trust-Based Philanthropy Project, Northern California Grantmakers, and Grantmakers Concerned with Immigrants and Refugees.</p><p><strong>JD Beltran</strong> is an award-winning artist, creative, journalist, and policymaker. She is the Founder & Director of the Center for Creative Sustainability in San Francisco, and Faculty in Design at San Francisco State University. Beltran has served on the San Francisco Arts Commission since 2009 (President, 2011-2018) and was recognized by San Francisco Mayor London Breed for her exceptional public service by declaring December 3, 2018 "JD Beltran Day in San Francisco."&nbsp;</p><p><strong>Elizabeth Forsyth</strong> (moderator) is the founder of Local Words, which supports the vital and growing community of writers in the South Bay and Lower Peninsula. She was the Director of Classes and Programming at the Grotto, which included securing significant grants from several sources.&nbsp;</p><p><strong>&nbsp;J. K. Fowler,</strong> executive director of the Bay Area Book Festival, builds intersections between arts, policy, and organizing. Founder of Nomadic Press and co-owner of Nomadic Bookshop, his work explores civic entanglements, cultural infrastructure, and liberation lineages through writing, community advocacy, and experiments in radical hospitality. More at <a href="https://url.avanan.click/v2/r01/___http:/jkfowler.com/___.YXAzOnNmZHQyOmE6bzo4MzBlNzc0ZjBkMDZkMzJkYWI2MGIzOGM1YjMwNmRhMjo3Ojg1ZWE6Y2EyY2IzNjM5ZWFjNTEzMzEzMmY0MGM3NTNhNmQ3OGMwYzI0YzNiZWY4ZjhhOGI5NGI1OTZjZTMzMjA2ZDc2YzpoOlQ6Tg">jkfowler.com</a>.</p><p><strong>Kamala Tully</strong> draws on 25 years of experience in communications, events, program development, and nonprofit administration to her position as executive director of Mesa Refuge. A leader who builds organizational sustainability, strategic collaborations and meaningful, impactful programs, Kamala’s expertise spans vision and strategy development, operations, funding, communications and marketing.&nbsp;</p><p><strong>The Writers Grotto</strong>&nbsp;is a community of working writers and narrative artists who connect in physical and virtual space, pooling their talents to support each other, mentor and teach others, and engage the wider world. The Grotto fosters a literary culture that is generous in spirit and deeply inclusive, elevating writers of all backgrounds.<strong>&nbsp;</strong></p><p>Connect:&nbsp;<a href="https://www.writersgrotto.org/">The Writers Grotto - Website</a>&nbsp;|&nbsp;<a href="https://www.instagram.com/thewritersgrotto">The Writers Grotto - Instagram</a>&nbsp;|&nbsp;<a href="https://www.facebook.com/sfgrotto/">The Writers Grotto - Facebook</a></p>
LOCATION:Main Library - Koret Auditorium
CLASS:PUBLIC
TRANSP:TRANSPARENT
END:VEVENT
BEGIN:VALARM
TRIGGER:-PT1440M
ACTION:DISPLAY
DESCRIPTION:Event Reminder - Panel: Money, please! Fundraising and the Art of the Ask
END:VALARM
END:VCALENDAR