BEGIN:VCALENDAR
VERSION:2.0
PRODID:SFPL Web Calendar
BEGIN:VEVENT
UID:154659@sfpl.org
DTSTAMP:20260624T210000Z
DTSTART:20260624T210000Z
DTEND:20260624T220000Z
SUMMARY:Activity: Decoden Mirrors and Keychains
DESCRIPTION:<p>Decorate a keychain or a compact mirror&nbsp;with whimsical 3D charms in the Japanese style of “decoden”. Originally a craft for phone covers, decoden is a combination of the words "deco", short for "decoration", and "denwa", which is Japanese for “phone”. Decoden is now found on many items using a playful collage of figurines and buttercream icing-like glue.&nbsp;</p><p>For ages 8–18.</p><p>Space limited. First come, first served.&nbsp;</p>
LOCATION:Excelsior - Excelsior Meeting Room
CLASS:PUBLIC
TRANSP:TRANSPARENT
END:VEVENT
BEGIN:VALARM
TRIGGER:-PT1440M
ACTION:DISPLAY
DESCRIPTION:Event Reminder - Activity: Decoden Mirrors and Keychains
END:VALARM
END:VCALENDAR