BEGIN:VCALENDAR
VERSION:2.0
PRODID:SFPL Web Calendar
BEGIN:VEVENT
UID:154678@sfpl.org
DTSTAMP:20260614T210000Z
DTSTART:20260614T210000Z
DTEND:20260614T223000Z
SUMMARY:Workshop: Henna with Renda Dabit
DESCRIPTION:<p>Learn about the beauty, history and cultural importance of henna. Participants will get their own henna design by artist Renda Dabit.&nbsp;</p><p>Space limited. Reservations required: (415) 355-2838 (starting June 1).&nbsp;</p><p>&nbsp;</p><p>Renda Dabit is founder and executive director of Henna Garden Events & Entertainment. Dabit has pioneered the art of henna body decoration in the U.S. by opening the first U.S. henna salon in Berkeley, California. A meticulous professional with a spontaneous and bohemian spirit, Renda channels her creativity to make each event a unique experience.</p><p>Connect: <a href="https://hennagarden.com/">Henna Garden – Website</a></p>
LOCATION:Mission Bay - Mission Bay Program Room
CLASS:PUBLIC
TRANSP:TRANSPARENT
END:VEVENT
BEGIN:VALARM
TRIGGER:-PT1440M
ACTION:DISPLAY
DESCRIPTION:Event Reminder - Workshop: Henna with Renda Dabit
END:VALARM
END:VCALENDAR