BEGIN:VCALENDAR
VERSION:2.0
PRODID:SFPL Web Calendar
BEGIN:VEVENT
UID:154681@sfpl.org
DTSTAMP:20260826T230000Z
DTSTART:20260826T230000Z
DTEND:20260827T000000Z
SUMMARY:Activity: Crochet Club – Crochet in the Round
DESCRIPTION:<p>Select from a range of crochet projects or bring your own project. Instruction will be provided, if needed. Crocheters of all experience levels, including beginners, are welcome. Theme of the month: Crocheting in the round. Space limited. For ages 6 and older.&nbsp;</p><p>Theme of the month: crochet in the round. Learn to join your work to form a circle.&nbsp;</p>
LOCATION:Ingleside - Ingleside Meeting Room
CLASS:PUBLIC
TRANSP:TRANSPARENT
END:VEVENT
BEGIN:VALARM
TRIGGER:-PT1440M
ACTION:DISPLAY
DESCRIPTION:Event Reminder - Activity: Crochet Club – Crochet in the Round
END:VALARM
END:VCALENDAR