BEGIN:VCALENDAR
VERSION:2.0
PRODID:SFPL Web Calendar
BEGIN:VEVENT
UID:155076@sfpl.org
DTSTAMP:20260813T210000Z
DTSTART:20260813T210000Z
DTEND:20260813T220000Z
SUMMARY:Workshop: Wax Resist Painting
DESCRIPTION:<p>Learn how to use wax to write secret messages and make watercolor art that pops.</p><p>Space limited. For children and their caregivers.</p>
LOCATION:Main Library - Children's Creative Center - 2nd Fl
CLASS:PUBLIC
TRANSP:TRANSPARENT
END:VEVENT
BEGIN:VALARM
TRIGGER:-PT1440M
ACTION:DISPLAY
DESCRIPTION:Event Reminder - Workshop: Wax Resist Painting
END:VALARM
END:VCALENDAR