BEGIN:VCALENDAR
VERSION:2.0
PRODID:SFPL Web Calendar
BEGIN:VEVENT
UID:155161@sfpl.org
DTSTAMP:20260610T210000Z
DTSTART:20260610T210000Z
DTEND:20260610T220000Z
SUMMARY:Workshop: Birds in Nature with Pavitra Eshwar
DESCRIPTION:<p>Learn about local birds' role in nature and make a bird feeder. For children ages 5 and older. Space limited. Reservations required: (415) 355-2823.</p><p>Connect: <a href="https://www.instagram.com/painterinpyjamas/">Pavitra Eshwar – Instagram</a></p>
LOCATION:Marina - Marina Back Courtyard
CLASS:PUBLIC
TRANSP:TRANSPARENT
END:VEVENT
BEGIN:VALARM
TRIGGER:-PT1440M
ACTION:DISPLAY
DESCRIPTION:Event Reminder - Workshop: Birds in Nature with Pavitra Eshwar
END:VALARM
END:VCALENDAR