BEGIN:VCALENDAR
VERSION:2.0
PRODID:SFPL Web Calendar
BEGIN:VEVENT
UID:155193@sfpl.org
DTSTAMP:20260501T010000Z
DTSTART:20260501T010000Z
DTEND:20260501T020000Z
SUMMARY:Presentation: Puppet Show with Carefree Puppetry
DESCRIPTION:<p>Watch a whimsical puppet demonstration, performed by theatre artist Vinh G. Nguyen of Carefree Puppetry. Watch as a colorful menageries of animals made from recycled materials come to life with playful movement and inspiring music. Meet the puppets up close for a post-show interactive experience.&nbsp;</p><p>Vinh G. Nguyen is a theatre maker and puppet artist based in New York City. He was featured in the San Francisco Opera’s “The Monkey King: The Art of Puppetry” Community Day at the Asian Art Museum. Nguyen took part in the Green Feather Foundation’s “Fish Migration Puppet Parade” at the Lincoln Center. His pop-up puppet performances have been seen at puppet slams, open mics, and schools. Nguyen is the playwright of <i>Tales of Ancient Vietnam</i>, a play with folktales, music and puppetry.</p><p>Connect: <a href="https://www.instagram.com/carefreepuppetry/">Carefree Puppetry – Instagram</a></p>
LOCATION:Richmond/Senator Milton Marks - Richmond Meeting Room
CLASS:PUBLIC
TRANSP:TRANSPARENT
END:VEVENT
BEGIN:VALARM
TRIGGER:-PT1440M
ACTION:DISPLAY
DESCRIPTION:Event Reminder - Presentation: Puppet Show with Carefree Puppetry
END:VALARM
END:VCALENDAR