BEGIN:VCALENDAR
VERSION:2.0
PRODID:SFPL Web Calendar
BEGIN:VEVENT
UID:155194@sfpl.org
DTSTAMP:20260828T220000Z
DTSTART:20260828T220000Z
DTEND:20260828T230000Z
SUMMARY:Activity: Fruit Art
DESCRIPTION:<p>Turn everyday healthy snacks into colorful artistic masterpieces. Experience a multi-sensory exploration through fruits. Please dress accordingly and prepare for the messy fun. For children ages 5 and older.</p>
LOCATION:Anza - Anza Meeting Room
CLASS:PUBLIC
TRANSP:TRANSPARENT
END:VEVENT
BEGIN:VALARM
TRIGGER:-PT1440M
ACTION:DISPLAY
DESCRIPTION:Event Reminder - Activity: Fruit Art
END:VALARM
END:VCALENDAR