BEGIN:VCALENDAR
VERSION:2.0
PRODID:SFPL Web Calendar
BEGIN:VEVENT
UID:155237@sfpl.org
DTSTAMP:20260621T210000Z
DTSTART:20260621T210000Z
DTEND:20260621T220000Z
SUMMARY:Activity: Button Maker for Pride Month
DESCRIPTION:<p>Make your own buttons to pin to your clothes or bag. Show it off or give them to friends. We'll have some special designs inspired by Pride Month. For ages 10–18.</p>
LOCATION:Noe Valley/Sally Brunn - Noe Valley Meeting Room
CLASS:PUBLIC
TRANSP:TRANSPARENT
END:VEVENT
BEGIN:VALARM
TRIGGER:-PT1440M
ACTION:DISPLAY
DESCRIPTION:Event Reminder - Activity: Button Maker for Pride Month
END:VALARM
END:VCALENDAR