BEGIN:VCALENDAR
VERSION:2.0
PRODID:SFPL Web Calendar
BEGIN:VEVENT
UID:155403@sfpl.org
DTSTAMP:20260811T230000Z
DTSTART:20260811T230000Z
DTEND:20260812T000000Z
SUMMARY:Activity: Keychain Button
DESCRIPTION:<p>Make a keychain with our button machine. Select a picture to use from our collection or draw one of your own. Use it as a keychain or to decorate your backpack.</p>
LOCATION:Golden Gate Valley - Golden Gate Valley Meeting Room
CLASS:PUBLIC
TRANSP:TRANSPARENT
END:VEVENT
BEGIN:VALARM
TRIGGER:-PT1440M
ACTION:DISPLAY
DESCRIPTION:Event Reminder - Activity: Keychain Button
END:VALARM
END:VCALENDAR