BEGIN:VCALENDAR
VERSION:2.0
PRODID:SFPL Web Calendar
BEGIN:VEVENT
UID:155406@sfpl.org
DTSTAMP:20260804T213000Z
DTSTART:20260804T213000Z
DTEND:20260804T223000Z
SUMMARY:Activity: Paper Kites
DESCRIPTION:<p>Try your hand at harnessing the force of the wind with a "Take and Make" paper kite kit, while supplies last. Ages 8-17.&nbsp;</p><p>Connect: <a href="https://sunsetdunes.org/">Friends of Sunset Dunes – Website</a></p>
LOCATION:Bookmobiles / Mobile Outreach
CLASS:PUBLIC
TRANSP:TRANSPARENT
END:VEVENT
BEGIN:VALARM
TRIGGER:-PT1440M
ACTION:DISPLAY
DESCRIPTION:Event Reminder - Activity: Paper Kites
END:VALARM
END:VCALENDAR