BEGIN:VCALENDAR
VERSION:2.0
PRODID:SFPL Web Calendar
BEGIN:VEVENT
UID:155411@sfpl.org
DTSTAMP:20260708T210000Z
DTSTART:20260708T210000Z
DTEND:20260708T220000Z
SUMMARY:Workshop: Mosaics with Ali Blum
DESCRIPTION:<p>Explore the art of mosaic-making in this hands-on workshop led by Ali Blum. Participants will design and create their own mosaic using colorful tiles and nature-inspired shapes, learning techniques such as tile cutting, layout, and grouting. For ages 12–15.&nbsp;<br>Space limited. Reservations required: (415) 355-2868.</p><p>Connect:<strong> </strong><a href="https://www.aliblumart.com/">Ali Blum Art – Website&nbsp;</a></p><p>&nbsp;</p>
LOCATION:Excelsior - Excelsior Meeting Room
CLASS:PUBLIC
TRANSP:TRANSPARENT
END:VEVENT
BEGIN:VALARM
TRIGGER:-PT1440M
ACTION:DISPLAY
DESCRIPTION:Event Reminder - Workshop: Mosaics with Ali Blum
END:VALARM
END:VCALENDAR