BEGIN:VCALENDAR
VERSION:2.0
PRODID:SFPL Web Calendar
BEGIN:VEVENT
UID:155424@sfpl.org
DTSTAMP:20260504T200000Z
DTSTART:20260504T200000Z
DTEND:20260504T210000Z
SUMMARY:Presentation: Plan for Business Success with Gale Business Resources
DESCRIPTION:<p>Discover Gale’s powerful small business resources designed to support entrepreneurs at every stage. Gale Business: Plan Builder is a step-by-step tool for planning, launching and growing a business or nonprofit. Learn how to navigate its intuitive dashboard, explore key planning areas—from business ideation to financial projections—and leverage additional resources like Gale Business: Entrepreneurship and Gale Legal Forms to support your business journey.&nbsp;</p><p>Led by Gale Training Consultant Cynda Wood, this session will provide hands-on guidance to help you maximize this resource. Wood specializes in helping public library users unlock the full potential of their library’s business tool.</p>
LOCATION:Virtual Library
CLASS:PUBLIC
TRANSP:TRANSPARENT
END:VEVENT
BEGIN:VALARM
TRIGGER:-PT1440M
ACTION:DISPLAY
DESCRIPTION:Event Reminder - Presentation: Plan for Business Success with Gale Business Resources
END:VALARM
END:VCALENDAR