BEGIN:VCALENDAR
VERSION:2.0
PRODID:SFPL Web Calendar
BEGIN:VEVENT
UID:155678@sfpl.org
DTSTAMP:20260616T230000Z
DTSTART:20260616T230000Z
DTEND:20260617T000000Z
SUMMARY:Workshop: Practical Potions
DESCRIPTION:<p>Potion-making isn’t just for wizards and witches–it's for all brave and curious children. &nbsp;Learn how to mix potions to create bubbling brews, colorful mixtures and fizzing eruptions using items found in nature and your kitchen. For children ages 5 and older.&nbsp;</p>
LOCATION:Merced - Merced Patio
CLASS:PUBLIC
TRANSP:TRANSPARENT
END:VEVENT
BEGIN:VALARM
TRIGGER:-PT1440M
ACTION:DISPLAY
DESCRIPTION:Event Reminder - Workshop: Practical Potions
END:VALARM
END:VCALENDAR