BEGIN:VCALENDAR
VERSION:2.0
PRODID:SFPL Web Calendar
BEGIN:VEVENT
UID:155712@sfpl.org
DTSTAMP:20260801T180000Z
DTSTART:20260801T180000Z
DTEND:20260801T190000Z
SUMMARY:Performance: Cuentos Cantados, Stories with Music with Cascada de Flores
DESCRIPTION:<p>Cascada de Flores will perform <i>El Brujo y la Sirena, The Wizard and the Mermaid</i>: A creative story about the sea, with music from different parts of Latin America and the Caribbean, songs in Spanish, English, Mayan K’iche’ and Portuguese.</p><p>Connect: <a href="https://www.cascadadeflores.com/">Cascada de Flores - Website</a>&nbsp;| <a href="https://www.facebook.com/cascadadeflores">Cascada de Flores - Facebook</a>&nbsp;| <a href="https://www.instagram.com/cascadadefloresmusic/?hl=en">Cascada de Flores - Instagram</a></p>
LOCATION:Excelsior - Excelsior Meeting Room
CLASS:PUBLIC
TRANSP:TRANSPARENT
END:VEVENT
BEGIN:VALARM
TRIGGER:-PT1440M
ACTION:DISPLAY
DESCRIPTION:Event Reminder - Performance: Cuentos Cantados, Stories with Music with Cascada de Flores
END:VALARM
END:VCALENDAR