BEGIN:VCALENDAR
VERSION:2.0
PRODID:SFPL Web Calendar
BEGIN:VEVENT
UID:155932@sfpl.org
DTSTAMP:20260731T203000Z
DTSTART:20260731T203000Z
DTEND:20260731T213000Z
SUMMARY:Activity: OctoPlay
DESCRIPTION:<p>Create a structure using large colorful slotted pieces as building blocks.&nbsp;</p>
LOCATION:Bayview/Linda Brooks-Burton - Bayview Meeting Room
CLASS:PUBLIC
TRANSP:TRANSPARENT
END:VEVENT
BEGIN:VALARM
TRIGGER:-PT1440M
ACTION:DISPLAY
DESCRIPTION:Event Reminder - Activity: OctoPlay
END:VALARM
END:VCALENDAR