BEGIN:VCALENDAR
VERSION:2.0
PRODID:SFPL Web Calendar
BEGIN:VEVENT
UID:156224@sfpl.org
DTSTAMP:20260728T210000Z
DTSTART:20260728T210000Z
DTEND:20260728T220000Z
SUMMARY:Workshop: Watercolor Painting and Read-Aloud with Ken Pak
DESCRIPTION:<p>Meet Ken Pak, Summer Stride 2025 artist and illustrator as he leads a playful watercolor painting session for beginners. Each participant will receive a basic art kit. Copies of Pak's illustrated book, <a href="https://sfpl.bibliocommons.com/v2/record/S93C6223625"><i>On a Summer Night</i></a>, will be raffled to participants. Space limited. For children and their caregivers.&nbsp;</p><p>Connect: <a href="https://www.pandagun.com/">Ken Pak - Website</a></p>
LOCATION:Bernal Heights - Bernal Heights Meeting Room
CLASS:PUBLIC
TRANSP:TRANSPARENT
END:VEVENT
BEGIN:VALARM
TRIGGER:-PT1440M
ACTION:DISPLAY
DESCRIPTION:Event Reminder - Workshop: Watercolor Painting and Read-Aloud with Ken Pak
END:VALARM
END:VCALENDAR