BEGIN:VCALENDAR
VERSION:2.0
PRODID:SFPL Web Calendar
BEGIN:VEVENT
UID:156261@sfpl.org
DTSTAMP:20260711T220000Z
DTSTART:20260711T220000Z
DTEND:20260711T230000Z
SUMMARY:Workshop: Chair Yoga 4 Everyone
DESCRIPTION:<p>Practice gentle, accessible yoga designed to support flexibility, balance and relaxation. This chair-based class uses breathwork, mindful movement and stretches that can be done seated or with a chair for support, making it ideal for beginners, seniors and anyone seeking a low-impact introduction to yoga. No experience or special equipment is required.<br><br><a href=" https://www.yoga4theworld.org/chapters/yoga-4-the-bay"><i>Yoga 4 The Bay </i></a>is a Bay Area–based organization that offers accessible yoga and meditation programs to the community. Their work focuses on creating supportive, inclusive spaces for wellness across a range of settings, including community centers, schools and senior programs.<br><br>Space limited. Reservations required: (415) 355-2822 or sign-up at the reference desk (starting July 1).</p>
LOCATION:Potrero - Potrero Meeting Room
CLASS:PUBLIC
TRANSP:TRANSPARENT
END:VEVENT
BEGIN:VALARM
TRIGGER:-PT1440M
ACTION:DISPLAY
DESCRIPTION:Event Reminder - Workshop: Chair Yoga 4 Everyone
END:VALARM
END:VCALENDAR