BEGIN:VCALENDAR
VERSION:2.0
PRODID:SFPL Web Calendar
BEGIN:VEVENT
UID:156333@sfpl.org
DTSTAMP:20260530T173000Z
DTSTART:20260530T173000Z
DTEND:20260530T193000Z
SUMMARY:Activity: Mahjong at the Library for Beginners
DESCRIPTION:<p>Learn how to play mahjong and make new friends in a relaxed library setting. Join us for a quick introduction to this classic game. Whether you’ve never picked up a Mahjong tile or only know it from movies, this beginner‑friendly session will teach you the basics step by step. All materials provided—just bring your curiosity and a willingness to try something new. This event is geared toward those who have never played before.<br><br>&nbsp;</p>
LOCATION:North Beach - North Beach General Floor Area
CLASS:PUBLIC
TRANSP:TRANSPARENT
END:VEVENT
BEGIN:VALARM
TRIGGER:-PT1440M
ACTION:DISPLAY
DESCRIPTION:Event Reminder - Activity: Mahjong at the Library for Beginners
END:VALARM
END:VCALENDAR