BEGIN:VCALENDAR
VERSION:2.0
PRODID:SFPL Web Calendar
BEGIN:VEVENT
UID:156605@sfpl.org
DTSTAMP:20260812T183000Z
DTSTART:20260812T183000Z
DTEND:20260812T184500Z
SUMMARY:Workshop: Family Yoga with It’s Yoga Kids
DESCRIPTION:<p>Strengthen, stretch and stress less in this 45‑minute session for all ages. Build confidence and resilience through strength, flexibility and balance with IYK® Certified instructors. Learn evidence‑based skills that help children focus, manage energy and practice positivity through mindfulness, movement and meditation.</p><p>Taught by IYK® Certified leaders who complete security clearances and <a href="https://www.itsyogakids.com/">kids yoga and mindfulness Warrior Training</a> to teach safely and successfully.</p><p>This session is immediately followed by <i>Lunch at the Library.</i></p><p>Connect: <a href="https://www.itsyogakids.com/">It's Yoga Kids – Website</a></p>
LOCATION:Main Library - Children's Creative Center - 2nd Fl
CLASS:PUBLIC
TRANSP:TRANSPARENT
END:VEVENT
BEGIN:VALARM
TRIGGER:-PT1440M
ACTION:DISPLAY
DESCRIPTION:Event Reminder - Workshop: Family Yoga with It’s Yoga Kids
END:VALARM
END:VCALENDAR