BEGIN:VCALENDAR
VERSION:2.0
PRODID:SFPL Web Calendar
BEGIN:VEVENT
UID:156606@sfpl.org
DTSTAMP:20260616T230000Z
DTSTART:20260616T230000Z
DTEND:20260617T000000Z
SUMMARY:Book Club: Banned Books 250 reads Malinda Lo's Last Night at the Telegraph Club
DESCRIPTION:<p>Discuss a powerful coming-of-age story set in 1950s San Francisco. <a href="https://sfpl.bibliocommons.com/v2/record/S93C4571822"><i>Last Night at the Telegraph Club</i></a> by Malinda Lo follows a young Chinese American girl as she navigates identity, family expectations and first love against the backdrop of the Red Scare. Explore themes of belonging, secrecy and self-discovery in this award-winning novel.</p><p>This book club is part of <a href="https://bookbindersmuseum.org/exhibition/banned-books-250/"><i>Banned Books 250</i></a>, a special exhibition on view May 16–August 29, 2026 at the American Bookbinders Museum. This 250-year retrospective traces how books have been challenged, restricted, and suppressed—from early colonial bans to today’s debates over identity, sexuality, and free expression—offering a deeper look at the ongoing struggle between censorship and the right to read.&nbsp; View the complete <a href="https://sfpl.bibliocommons.com/v2/list/display/433865467/2987093437">Banned Books 250 exhibit booklist</a>.</p>
LOCATION:Main Library
CLASS:PUBLIC
TRANSP:TRANSPARENT
END:VEVENT
BEGIN:VALARM
TRIGGER:-PT1440M
ACTION:DISPLAY
DESCRIPTION:Event Reminder - Book Club: Banned Books 250 reads Malinda Lo's Last Night at the Telegraph Club
END:VALARM
END:VCALENDAR