BEGIN:VCALENDAR
VERSION:2.0
PRODID:SFPL Web Calendar
BEGIN:VEVENT
UID:156700@sfpl.org
DTSTAMP:20260811T220000Z
DTSTART:20260811T220000Z
DTEND:20260812T000000Z
SUMMARY:Workshop: Artful Stitches with Asé Arts
DESCRIPTION:<p>Learn to draw with thread, creating an original work of art. Nichole Talbott of <a href="https://www.asearts.org/">Asé Arts</a>&nbsp;will guide attendees through several classic hand embroidery techniques with tips and tricks on how to achieve your desired design.</p><p>Embroidery is a great way to develop your creativity in new and uncharted ways. The tactile, meditative and repetitive practice of stitching rewires neurons and establishes fresh creative pathways. No prior experience is required. This is a beginner-level workshop, but open to more advanced embroiderers who want to tap into the centering practice of embroidery.</p><p>All materials needed for the workshop will be provided.</p><p>Space limited. Reservations required: (415) 355-5656 (starting July 11).</p><p>Asé Arts community (pronounced Ah Shay) utilizes the arts as a powerful tool to provoke thought, conversation & change. We build connections through the process of art making, and foster self-expression, skill building, and creative exploration in our visual arts classes, workshops, and community engagement events.</p><p>Connect:&nbsp;</p><p><a href="https://www.asearts.org/">Asé Arts – Website</a>&nbsp;| <a href="https://www.instagram.com/asearts510/">Asé Arts - Instagram</a></p>
LOCATION:Park - Park Meeting Room
CLASS:PUBLIC
TRANSP:TRANSPARENT
END:VEVENT
BEGIN:VALARM
TRIGGER:-PT1440M
ACTION:DISPLAY
DESCRIPTION:Event Reminder - Workshop: Artful Stitches with Asé Arts
END:VALARM
END:VCALENDAR