BEGIN:VCALENDAR
VERSION:2.0
PRODID:SFPL Web Calendar
BEGIN:VEVENT
UID:156738@sfpl.org
DTSTAMP:20260416T000000Z
DTSTART:20260416T000000Z
DTEND:20260416T020000Z
SUMMARY:Film: Spider-Man — Into the Spider-Verse
DESCRIPTION:<p>Experience <i>Spider-Man: Into the Spider-Verse</i>, the groundbreaking and action-packed adventure that redefines what it means to be a hero!</p><p>When Brooklyn teen Miles Morales gains incredible spider-like abilities, he soon discovers he’s not the only Spider-Person in the multiverse. Teaming up with heroes from different dimensions, Miles must learn to embrace his powers and find his own voice as Spider-Man. As the fate of multiple realities hangs in the balance, he discovers that anyone can wear the mask. Bursting with bold animation, humor, heart and nonstop excitement, this film is an unforgettable journey of identity, courage and belonging.</p><p>Show off your best Spider-Verse–inspired costume. Super suits, multiverse variants and creative hero costumes are encouraged.</p><p>PG, 117 mins., 2018. Closed captions (CC) in English.</p><p>&nbsp;</p>
LOCATION:North Beach - North Beach Library Community Room
CLASS:PUBLIC
TRANSP:TRANSPARENT
END:VEVENT
BEGIN:VALARM
TRIGGER:-PT1440M
ACTION:DISPLAY
DESCRIPTION:Event Reminder - Film: Spider-Man — Into the Spider-Verse
END:VALARM
END:VCALENDAR