BEGIN:VCALENDAR
VERSION:2.0
PRODID:SFPL Web Calendar
BEGIN:VEVENT
UID:156883@sfpl.org
DTSTAMP:20260601T210000Z
DTSTART:20260601T210000Z
DTEND:20260601T220000Z
SUMMARY:Presentation: Fraud Fighters — Outsmarting Financial Abuse for Older Adults
DESCRIPTION:<p>This workshop will cover common scams and fraud, the red flags, and simple tools to help stay safe. Presenters from <a href="https://www.ioaging.org/">The Institute on Aging </a>and <a href="rg/departments/department-disability-and-aging-services-das">The Department of Disability and Aging</a> will guide participants in how to recognize tactics used by scammers, ways to protect personal information and finances, and where to turn for help and reporting. By the end of the session, attendees will feel more prepared to safeguard themselves and their loved ones from financial abuse.</p>
LOCATION:Mission Bay - Mission Bay Program Room
CLASS:PUBLIC
TRANSP:TRANSPARENT
END:VEVENT
BEGIN:VALARM
TRIGGER:-PT1440M
ACTION:DISPLAY
DESCRIPTION:Event Reminder - Presentation: Fraud Fighters — Outsmarting Financial Abuse for Older Adults
END:VALARM
END:VCALENDAR