BEGIN:VCALENDAR
VERSION:2.0
PRODID:SFPL Web Calendar
BEGIN:VEVENT
UID:157014@sfpl.org
DTSTAMP:20260816T210000Z
DTSTART:20260816T210000Z
DTEND:20260816T230000Z
SUMMARY:Workshop: Mandarin for Beginners
DESCRIPTION:<p>Learn simple Mandarin words, everyday phrases and easy conversations through games, songs, and hands‑on activities.&nbsp;A great way&nbsp;to explore language and culture at the library. For children ages 2–10.</p>
LOCATION:Marina - Marina Children's Area
CLASS:PUBLIC
TRANSP:TRANSPARENT
END:VEVENT
BEGIN:VALARM
TRIGGER:-PT1440M
ACTION:DISPLAY
DESCRIPTION:Event Reminder - Workshop: Mandarin for Beginners
END:VALARM
END:VCALENDAR