BEGIN:VCALENDAR
VERSION:2.0
PRODID:SFPL Web Calendar
BEGIN:VEVENT
UID:25257@sfpl.org
DTSTAMP:20200222T220000Z
DTSTART:20200222T220000Z
DTEND:20200223T010000Z
SUMMARY:Dialogue: Talking with Kids about Race and Racism
DESCRIPTION:<h3>Talking With Kids About Race and Racism: When Sorry Isn’t Enough</h3>
<p><em>A Discussion of Reparations and Justice with Keynote Speakers Alison Collins, Gabriela López and Mariposa.</em></p>
<p><strong><a href="https://docs.google.com/forms/d/e/1FAIpQLScVYUqwE4AB9VScBZ0lLafzdOhLil-YvZrsPbEAk4GeYH7N1w/formResponse" onclick="window.open(this.href, '', 'resizable=no,status=no,location=no,toolbar=no,menubar=no,fullscreen=no,scrollbars=no,dependent=no'); return false;">Register</a> for attendance (optional) and childcare (required, space is limited).</strong></p>
<p>Join us for an afternoon of conversation about talking with kids about reparations and accountability and what Indigenous families and Black and other families of color need in the pursuit of justice. Keynote speakers will explore these issues together, and then participants will continue the conversation in groups facilitated by <a href="http://t4sj.org/" onclick="window.open(this.href, '', 'resizable=no,status=no,location=no,toolbar=no,menubar=no,fullscreen=no,scrollbars=no,dependent=no'); return false;">Teachers 4 Social Justice</a>.</p>
<p>Children’s programming and childcare facilitated by <a href="http://abundantbeginnings.org/" onclick="window.open(this.href, '', 'resizable=no,status=no,location=no,toolbar=no,menubar=no,fullscreen=no,scrollbars=no,dependent=no'); return false;">Abundant Beginnings</a> and <a href="https://bayareachildcarecollective.wordpress.com/" onclick="window.open(this.href, '', 'resizable=no,status=no,location=no,toolbar=no,menubar=no,fullscreen=no,scrollbars=no,dependent=no'); return false;">Bay Area Childcare Collective</a>.</p>
<p>Presented by San Francisco Public Library with community partners: <a href="https://www.ourfamily.org/" onclick="window.open(this.href, '', 'resizable=no,status=no,location=no,toolbar=no,menubar=no,fullscreen=no,scrollbars=no,dependent=no'); return false;">Our Family Coalition</a>, <a href="https://t4sj.org/" onclick="window.open(this.href, '', 'resizable=no,status=no,location=no,toolbar=no,menubar=no,fullscreen=no,scrollbars=no,dependent=no'); return false;">Teachers 4 Social Justice</a>, <a href="http://abundantbeginnings.org/" onclick="window.open(this.href, '', 'resizable=no,status=no,location=no,toolbar=no,menubar=no,fullscreen=no,scrollbars=no,dependent=no'); return false;">Abundant Beginnings</a>, <a href="https://www.surjsf.org/" onclick="window.open(this.href, '', 'resizable=no,status=no,location=no,toolbar=no,menubar=no,fullscreen=no,scrollbars=no,dependent=no'); return false;">Showing up for Racial Justice San Francisco</a> (SURJ SF) and <a href="http://bayareachildcarecollective.wordpress.com/">Bay Area Childcare Collective</a>. Thank you to <a href="http://www.first5california.com/default.aspx" onclick="window.open(this.href, '', 'resizable=no,status=no,location=no,toolbar=no,menubar=no,fullscreen=no,scrollbars=no,dependent=no'); return false;">First 5 California</a> and <a href="https://www.ggmg.org/" onclick="window.open(this.href, '', 'resizable=no,status=no,location=no,toolbar=no,menubar=no,fullscreen=no,scrollbars=no,dependent=no'); return false;">Golden Gate Mothers Group</a> for their generous support.</p>
LOCATION:Main Library - Koret Auditorium
CLASS:PUBLIC
TRANSP:TRANSPARENT
END:VEVENT
BEGIN:VALARM
TRIGGER:-PT1440M
ACTION:DISPLAY
DESCRIPTION:Event Reminder - Dialogue: Talking with Kids about Race and Racism
END:VALARM
END:VCALENDAR