BEGIN:VCALENDAR
VERSION:2.0
PRODID:SFPL Web Calendar
BEGIN:VEVENT
UID:28848@sfpl.org
DTSTAMP:20201026T220000Z
DTSTART:20201026T220000Z
DTEND:20201026T221500Z
SUMMARY:STEM: Invisible Ink Challenge
DESCRIPTION:<p>Can you make invisible ink with ingredients from your pantry? Learn the science behind invisible inks. Gather paper, cups, q-tips, baking soda, water, grape juice, tomato juice, lemon juice, milk and yogurt for this challenge with YELL 2020 teen intern Joyce L.</p>

<p>&nbsp;</p>

<p>Tune in to <a href="https://www.youtube.com/user/SanFranciscoLibrary">SFPL YouTube. </a></p>

<p>&nbsp;</p>

<p>STEM Challenge Yo’Self | Teen Takeover is created by the San Francisco Public Library from the Youth Engaged in Library Leadership (YELL) STEM team. Stay STEM-tastic by reading, learning and experimenting at home. Gather materials for a new challenge posted at 3pm on weekdays throughout October. Visit <a href="http://www.sfpl.org/stemchallenge">www.sfpl.org/stemchallenge</a> for more resources.</p>

LOCATION:Virtual Library
CLASS:PUBLIC
TRANSP:TRANSPARENT
END:VEVENT
BEGIN:VALARM
TRIGGER:-PT1440M
ACTION:DISPLAY
DESCRIPTION:Event Reminder - STEM: Invisible Ink Challenge
END:VALARM
END:VCALENDAR