BEGIN:VCALENDAR
VERSION:2.0
PRODID:SFPL Web Calendar
BEGIN:VEVENT
UID:28855@sfpl.org
DTSTAMP:20201028T221500Z
DTSTART:20201028T221500Z
DTEND:20201028T223000Z
SUMMARY:STEM: Fizzy Orange Challenge
DESCRIPTION:<p>Can you make your slice of orange fizzy? Learn the chemical reaction between orange and baking soda. Gather baking soda and slices of oranges for this challenge with YELL 2020 teen intern Callie.</p>

<p>&nbsp;</p>

<p>Tune in to <a href="https://www.youtube.com/user/SanFranciscoLibrary">SFPL YouTube. </a></p>

<p>&nbsp;</p>

<p>STEM Challenge Yo’Self | Teen Takeover is created by the San Francisco Public Library from the Youth Engaged in Library Leadership (YELL) STEM team. Stay STEM-tastic by reading, learning and experimenting at home. Gather materials for a new challenge posted at 3pm on weekdays throughout October. Visit <a href="http://www.sfpl.org/stemchallenge">www.sfpl.org/stemchallenge</a> for more resources.</p>

LOCATION:Virtual Library
CLASS:PUBLIC
TRANSP:TRANSPARENT
END:VEVENT
BEGIN:VALARM
TRIGGER:-PT1440M
ACTION:DISPLAY
DESCRIPTION:Event Reminder - STEM: Fizzy Orange Challenge
END:VALARM
END:VCALENDAR