BEGIN:VCALENDAR
VERSION:2.0
PRODID:SFPL Web Calendar
BEGIN:VEVENT
UID:29330@sfpl.org
DTSTAMP:20201218T220000Z
DTSTART:20201218T220000Z
DTEND:20201218T230000Z
SUMMARY:Demonstration: Wok with Chef Martin Yan - Holidays at Home
DESCRIPTION:<p>San Francisco’s own <a href="https://sfpl.bibliocommons.com/v2/search?query=Yan%2C%20Martin&amp;searchType=author">Chef Martin Yan</a>&nbsp;helps us celebrate the Holidays at home by providing a virtual cooking class suitable for all cooks, young to old, if “Yan Can Cook, So Can You!”</p>

<p>Chef Martin Yan has WOWed audiences from Shanghai to San Francisco for over 40 years on American Public Television,&nbsp;promoting Chinese and Asian cuisine.&nbsp;Making it easy for home cooks has been his life-long mission.</p>

<p>Since 1978, Chef Yan has hosted the <em>Yan Can Cook</em> show on PBS—one of the longest-running cooking and traveling programs on television today—has written&nbsp;30 cookbooks and is founder and chef of M.Y. China in San Francisco.&nbsp;</p>

<h3><a href="https://sfpl-org.zoom.us/webinar/register/WN_U44MFadMSGyxAi2nt1QRaQ">Zoom Registration</a></h3>

<h3>&nbsp;</h3>

<p>&nbsp;</p>

LOCATION:Virtual Library
CLASS:PUBLIC
TRANSP:TRANSPARENT
END:VEVENT
BEGIN:VALARM
TRIGGER:-PT1440M
ACTION:DISPLAY
DESCRIPTION:Event Reminder - Demonstration: Wok with Chef Martin Yan - Holidays at Home
END:VALARM
END:VCALENDAR