BEGIN:VCALENDAR
VERSION:2.0
PRODID:SFPL Web Calendar
BEGIN:VEVENT
UID:29364@sfpl.org
DTSTAMP:20210127T030000Z
DTSTART:20210127T030000Z
DTEND:20210127T040000Z
SUMMARY:Performance: Diane Ferlatte Storytelling
DESCRIPTION:<p>Grammy-nominated storyteller Diane Ferlatte is a multi-award winning performer who has captivated audiences across six continents. In this special program in partnership with the SFUSD for an adult audience,&nbsp;Ferlatte draws from a deep well of historical and personal stories as well as folktales and legends to inform, entertain and inspire.&nbsp;</p>

<p><strong>Tune in on <a href="https://www.youtube.com/user/SanFranciscoLibrary">YouTube</a>.</strong></p>

<p>Connect with Diane Ferlatte: <a href="http://www.dianeferlatte.com/index.html">Website</a></p>

LOCATION:Virtual Library
CLASS:PUBLIC
TRANSP:TRANSPARENT
END:VEVENT
BEGIN:VALARM
TRIGGER:-PT1440M
ACTION:DISPLAY
DESCRIPTION:Event Reminder - Performance: Diane Ferlatte Storytelling
END:VALARM
END:VCALENDAR