BEGIN:VCALENDAR
VERSION:2.0
PRODID:SFPL Web Calendar
BEGIN:VEVENT
UID:29467@sfpl.org
DTSTAMP:20210211T010000Z
DTSTART:20210211T010000Z
DTEND:20210211T020000Z
SUMMARY:Demonstration: Find Affordable Housing Online
DESCRIPTION:<p>Learn how to search and apply for affordable housing using the City’s online platform, <a href="https://housing.sfgov.org/">DAHLIA</a>. Presented by staff from the Mayor’s Office of Housing and Community Development.</p>

<p>&nbsp;</p>

LOCATION:Virtual Library
CLASS:PUBLIC
TRANSP:TRANSPARENT
END:VEVENT
BEGIN:VALARM
TRIGGER:-PT1440M
ACTION:DISPLAY
DESCRIPTION:Event Reminder - Demonstration: Find Affordable Housing Online
END:VALARM
END:VCALENDAR