BEGIN:VCALENDAR
VERSION:2.0
PRODID:SFPL Web Calendar
BEGIN:VEVENT
UID:29491@sfpl.org
DTSTAMP:20210202T200000Z
DTSTART:20210202T200000Z
DTEND:20210202T213000Z
SUMMARY:Presentation: Making Sense Out of Tax Laws
DESCRIPTION:<p>Learn&nbsp;how&nbsp;major changes to tax rules over the last couple of years&nbsp;may impact&nbsp;you,&nbsp;what you&nbsp;can&nbsp;do to maximize the benefits and minimize negative effects.&nbsp;</p>

<p>About the speaker:&nbsp;Heather C. Liston, CFP®, Enrolled Agent, teaches courses at UC Berkeley Extension in Income Tax, Employment Benefits &amp; Retirement Planning and Retirement Income Planning. She is a fee-only financial planner with Hargrave Fiduciary Advisors, and also a tax advisor and preparer. She particularly enjoys helping clients navigate the less romantic aspects of their personal relationships, including how to combine resources and work toward joint goals and the effects of marital status on taxes, estate planning and retirement savings.&nbsp;<a href="http://www.letsmakeaplan.org/choose-a-cfp-professional/find-a-cfp-professional/Details/?key=d1b3c12d-fa9d-4df3-a50b-1b3a50edca87&amp;SimpleSearch=True&amp;CityStateZip=94109&amp;City=&amp;Zip=94109&amp;Radius=5&amp;Latitude=37.7929789&amp;Longitude=-122.4212424&amp;HpPlus=%3D%3Dcfp.net%3D%3D&amp;Page=1&amp;Session=86328">CFP</a>®,&nbsp;&nbsp;<a href="http://email.acuityscheduling.com/mpss/c/2gA/e9k/t.2kt/W1M91x2IRTOuU5c6idSqqg/h4/5r2OA3zfyw46Rv7ZW2F3B5Yva-2FvaRCdnRA69hV7L-2FGQyy0JQXLQJvNNvI-2Fsv1Lz31sr-2BMcJVefDg22sz6DdtSkcPe6DVYS5wvQcU3Ba5NR8-3D">EA</a>&nbsp;&nbsp;&nbsp;</p>

<p>&nbsp;</p>

LOCATION:Virtual Library
CLASS:PUBLIC
TRANSP:TRANSPARENT
END:VEVENT
BEGIN:VALARM
TRIGGER:-PT1440M
ACTION:DISPLAY
DESCRIPTION:Event Reminder - Presentation: Making Sense Out of Tax Laws
END:VALARM
END:VCALENDAR