BEGIN:VCALENDAR
VERSION:2.0
PRODID:SFPL Web Calendar
BEGIN:VEVENT
UID:29507@sfpl.org
DTSTAMP:20210531T170000Z
DTSTART:20210531T170000Z
DTEND:20210531T171500Z
SUMMARY:故事時間: 甜蜜嬰孩故事
DESCRIPTION:<p>適合嬰孩及其褓姆的故事、兒歌和童韻。</p>

<p>可於<a href="http://www.facebook.com/sfpl.org" style="font-weight: bold;">臉書 Facebook</a>收看。</p>

<p>小貼士: 使用以上連結時，您不需要臉書 (Facebook) 帳戶亦可收看故事時間，亦可關閉任何彈出視窗。</p>

LOCATION:Virtual Library
CLASS:PUBLIC
TRANSP:TRANSPARENT
END:VEVENT
BEGIN:VALARM
TRIGGER:-PT1440M
ACTION:DISPLAY
DESCRIPTION:Event Reminder - 故事時間: 甜蜜嬰孩故事
END:VALARM
END:VCALENDAR