BEGIN:VCALENDAR
VERSION:2.0
PRODID:SFPL Web Calendar
BEGIN:VEVENT
UID:29558@sfpl.org
DTSTAMP:20210325T020000Z
DTSTART:20210325T020000Z
DTEND:20210325T030000Z
SUMMARY:Panel: Guerrilla Girls: The Art of Behaving Badly
DESCRIPTION:<p>In celebration of their new book,&nbsp;<a href="https://sfpl.bibliocommons.com/item/show/4553090093"><em>Guerrilla Girls:The Art of Behaving Badly</em></a>, Guerrilla Girls Frida Kahlo and Kathe Kollwitz discuss the book and their legacy, followed by a Q&amp;A session.</p>

<p>The Guerrilla Girls are a group of political artists who have been exposing gender biases and&nbsp; discrimination in art and culture for over 30 years. Guerrilla Girls: The Art of Behaving Badly is the first book to catalog the entire career of the Guerrilla Girls from 1985 to present.&nbsp;</p>

<h3><a href="https://youtu.be/SIk7ne-f3fc">YouTube Live</a></h3>

<p>&nbsp;</p>

<p>In 1985, a bunch of feminist masked avengers began plastering posters all over downtown New York. They named&nbsp; galleries, museums, critics, collectors, and white male artists who contributed to an art system prejudiced against women and artists of color. Since then, the collective has produced&nbsp; hundreds of projects exposing bias and corruption in art,&nbsp; film, pop culture, and politics. Their unforgettable graphics&nbsp; have become a global phenomenon. This is the first book to&nbsp; document the Guerrilla Girls’ entire wild career of&nbsp; provocative street campaigns, books, performances, large‐ scale exhibitions at museums, and more. The Guerrilla Girls&nbsp; contextualize their visuals and elaborate on their&nbsp; intersectional takedown of the patriarchy in their own words&nbsp; throughout the book. This isn’t a monograph—it’s a call to arms</p>

<p><strong>Connect</strong></p>

<p>Guerrilla Girls - &nbsp;<a href="https://www.guerrillagirls.com/">Website</a> | <a href="https://www.instagram.com/guerrillagirls/">Instagram</a> | <a href="https://twitter.com/guerrillagirls">Twitter</a> | <a href="https://www.facebook.com/guerrillagirls/">Facebook</a>&nbsp; <a href="https://www.instagram.com/explore/tags/guerrillagirls/">#guerrillagirls</a></p>

<p>Chronicle Books - &nbsp;<a href="https://twitter.com/guerrillagirlshttps://www.chroniclebooks.com/">Website</a> | <a href="https://www.chroniclebooks.com/">Instagram</a> | <a href="https://twitter.com/ChronicleBooks">Twitter</a> | <a href="https://www.facebook.com/ChronicleBooks">Facebook</a>&nbsp;</p>

<p>&nbsp;</p>

LOCATION:Virtual Library
CLASS:PUBLIC
TRANSP:TRANSPARENT
END:VEVENT
BEGIN:VALARM
TRIGGER:-PT1440M
ACTION:DISPLAY
DESCRIPTION:Event Reminder - Panel: Guerrilla Girls: The Art of Behaving Badly
END:VALARM
END:VCALENDAR