BEGIN:VCALENDAR
VERSION:2.0
PRODID:SFPL Web Calendar
BEGIN:VEVENT
UID:29611@sfpl.org
DTSTAMP:20211217T003000Z
DTSTART:20211217T003000Z
DTEND:20211217T033000Z
SUMMARY:Library Commission Meeting: December 16, 2021
DESCRIPTION:<p>Meeting held virtually &amp; telephonically&nbsp;to provide the safest environment for all persons consistent with San Francisco Department of Public Health Order of the Health Officer No. C19- 07e and current public health recommendations, while allowing the public to observe and address the Commission.</p>

<p>WATCH and PUBLIC COMMENT Cisco Webex Event<br />
&nbsp;</p>

<p>LISTEN and PUBLIC COMMENT CALL-IN<br />
&nbsp;</p>

LOCATION:Virtual Library
CLASS:PUBLIC
TRANSP:TRANSPARENT
END:VEVENT
BEGIN:VALARM
TRIGGER:-PT1440M
ACTION:DISPLAY
DESCRIPTION:Event Reminder - Library Commission Meeting: December 16, 2021
END:VALARM
END:VCALENDAR