BEGIN:VCALENDAR
VERSION:2.0
PRODID:SFPL Web Calendar
BEGIN:VEVENT
UID:29751@sfpl.org
DTSTAMP:20210427T180000Z
DTSTART:20210427T180000Z
DTEND:20210427T190000Z
SUMMARY:Demonstration: Google Photos
DESCRIPTION:<p>Learn to store and organize digital images with Google Photos. We demonstrate how to upload, make minor edits, create albums and share your photos all in one place.</p>

LOCATION:Virtual Library
CLASS:PUBLIC
TRANSP:TRANSPARENT
END:VEVENT
BEGIN:VALARM
TRIGGER:-PT1440M
ACTION:DISPLAY
DESCRIPTION:Event Reminder - Demonstration: Google Photos
END:VALARM
END:VCALENDAR