BEGIN:VCALENDAR
VERSION:2.0
PRODID:SFPL Web Calendar
BEGIN:VEVENT
UID:30002@sfpl.org
DTSTAMP:20210514T000000Z
DTSTART:20210514T000000Z
DTEND:20210514T010000Z
SUMMARY:Presentation: Digital Wellness (Spanish)
DESCRIPTION:<p>&nbsp;</p>

<p>Join Common Sense as they share practical tips for parents grappling with distance learning and online fatigue. Participants will create a holistic plan to address online engagement, understand tech tools that can better help children navigate screen time and insight on how to celebrate digital wellness. This event is part of San Francisco's <a href="https://sfpl.org/locations/main-library/bridge-main-5th-floor/connect-tech-week">Tech Week</a>, May 9-15, 2021. It will also be streamed on the SFPL YouTube channel.</p>

LOCATION:Virtual Library
CLASS:PUBLIC
TRANSP:TRANSPARENT
END:VEVENT
BEGIN:VALARM
TRIGGER:-PT1440M
ACTION:DISPLAY
DESCRIPTION:Event Reminder - Presentation: Digital Wellness (Spanish)
END:VALARM
END:VCALENDAR