BEGIN:VCALENDAR
VERSION:2.0
PRODID:SFPL Web Calendar
BEGIN:VEVENT
UID:30022@sfpl.org
DTSTAMP:20210529T200000Z
DTSTART:20210529T200000Z
DTEND:20210529T204500Z
SUMMARY:K-Pop 韓國流行舞蹈班
DESCRIPTION:<p>想令自己感覺如韓國流行音樂視頻&nbsp;K-Pop MV 內的主角？從一些您喜歡的 K-Pop 偶像開始轉向編舞，例如 Twice 韓國九人女團、BTS 防彈少年男團、Blackpink 女團等。三藩市 Rae Studios 的 Lydia Chon 會教授初級/中級課程。適合12歲及以上人士。</p>

<p>&nbsp;</p>

<p><strong>關於導師</strong></p>

<p>Lydia Chon 是一位二十四歲來自新奧爾良 (New Orleans) 的舞者，她在灣區已經生活了兩年以上及跳了十一年以上的舞，曾接受爵士舞、芭蕾舞、現代和 Hip Hop 舞方面的訓練，並在一支充滿競爭的舞蹈團隊中跳舞。她亦是明星舞蹈團的成員，曾到不同國家作國際性演出。出於對 K-Pop 的熱愛，她目前教授初級/中級 K-Pop 課程，在這裡她可以教你最喜歡的 K-Pop 舞蹈。目前，她的代理是 Rae Dance Agency 。</p>

<p>&nbsp;</p>

<p><strong>關於 Rae Studios</strong></p>

<p><a href="https://www.raestudios-sf.com/">Rae Studios</a> 是一家俯瞰三藩市市中心的舞蹈和健身工作室。 擁有三個華麗及充滿植物和活力的課室，三十多位教師每週提供五十多堂虛擬課程。他們的課程包括瑜伽、健身、有氧舞蹈和各種級別 (包括初級和高級) 的舞蹈技巧班。課程包括心肺混合運動 (Cardio Jam)、Hip Hop、跆拳道、Yoga Flow、K-POP、森巴舞、爵士 Funk、Sweat 30、Waacking、肚皮舞、波多黎各流行的西班牙舞蹈 Reggaeton、音樂劇等。</p>

<p>&nbsp;</p>

<p><strong>Rae Studios 的理念</strong></p>

<p>Rae Studios 的使命是將健身室和傳統舞蹈工作室連接到一個在以健康為首的心態，歡迎各級融合流行舞蹈文化的意識形態和健身的環境中。我們的目標是通過音樂 + 運動的藝術，為三藩市舞蹈尋求者提供社區、成長和參與的渠道。 我們的文化很簡單，為舞蹈和社區創造一個蓬勃發展的空間，澆灌我們激情的根源，用行動點燃我們的夢想，並激勵其他人做一樣的事。</p>

LOCATION:Virtual Library
CLASS:PUBLIC
TRANSP:TRANSPARENT
END:VEVENT
BEGIN:VALARM
TRIGGER:-PT1440M
ACTION:DISPLAY
DESCRIPTION:Event Reminder - K-Pop 韓國流行舞蹈班
END:VALARM
END:VCALENDAR