BEGIN:VCALENDAR
VERSION:2.0
PRODID:SFPL Web Calendar
BEGIN:VEVENT
UID:30070@sfpl.org
DTSTAMP:20211210T020000Z
DTSTART:20211210T020000Z
DTEND:20211210T031500Z
SUMMARY:Performance: Kim Shuck's Poem Jam Celebrates Diane di Prima
DESCRIPTION:<p><span>Poet Laureate emerita Kim Shuck invites special guests for a poetry reading in celebration of the extraordinary Beat Generation luminary and former San Francisco Poet Laureate Diane di Prima. Featuring devorah major (SF Poet Laureate 2002–2004), Kimi Sugioka, Melissa Eleftherion Carr, Kitty Costello and Bill Vartnaw.</span></p>

<p><a href="https://youtu.be/gJXMlaePyVw"><span>Watch on YouTube.</span></a></p>

LOCATION:Virtual Library
CLASS:PUBLIC
TRANSP:TRANSPARENT
END:VEVENT
BEGIN:VALARM
TRIGGER:-PT1440M
ACTION:DISPLAY
DESCRIPTION:Event Reminder - Performance: Kim Shuck's Poem Jam Celebrates Diane di Prima
END:VALARM
END:VCALENDAR