BEGIN:VCALENDAR
VERSION:2.0
PRODID:SFPL Web Calendar
BEGIN:VEVENT
UID:30114@sfpl.org
DTSTAMP:20210806T010000Z
DTSTART:20210806T010000Z
DTEND:20210806T023000Z
SUMMARY:Book Club: World Literature, Proust’s In the Shadow of Young Girls in Flower
DESCRIPTION:<p>We discuss Marcel Proust’s <a href="https://sfpl.bibliocommons.com/v2/search?custom_edit=false&amp;query=title%3A%28In+the+Shadow+of+Young+Girls+in+Flower%29+++-title%3A%28Voices+from+the+Harlem%29&amp;searchType=bl&amp;suppress=true"><em>In the Shadow of Young Girls in Flower</em></a>, the French author’s celebrated exploration of love and youth in fin de siècle Paris and Normandy. Proust’s novel is the second volume in his masterpiece, <a href="https://sfpl.bibliocommons.com/v2/search?custom_edit=false&amp;query=(title%3A(%C3%80%20la%20recherche%20du%20temps%20perdu)%20AND%20contributor%3A(proust%2C%20marcel)%20)%20-contributor%3A(Heuet)%20-contributor%3A(brezet)%20-contributor%3A(adams)%20-contributor%3A(pinter)&amp;searchType=bl&amp;suppress=true&amp;pagination_page=1">In Search of Lost Time</a>.</p>

<p><a href="https://sfpl.bibliocommons.com/list/share/377327687_sfpl_johns/572513107_world_literature_book_club"><strong>World Literature Book Club reading list</strong></a></p>

<p>&nbsp;</p>

LOCATION:Virtual Library
CLASS:PUBLIC
TRANSP:TRANSPARENT
END:VEVENT
BEGIN:VALARM
TRIGGER:-PT1440M
ACTION:DISPLAY
DESCRIPTION:Event Reminder - Book Club: World Literature, Proust’s In the Shadow of Young Girls in Flower
END:VALARM
END:VCALENDAR