BEGIN:VCALENDAR
VERSION:2.0
PRODID:SFPL Web Calendar
BEGIN:VEVENT
UID:30161@sfpl.org
DTSTAMP:20210512T000000Z
DTSTART:20210512T000000Z
DTEND:20210512T010000Z
SUMMARY:Presentation: Avoid Scams and Spies
DESCRIPTION:<p>Learn about common internet scams and privacy invasions—and how to protect yourself while using your device or going online. Staff from Electronic Frontier Foundation also explore free tools from Electronic Frontier Foundation to give yourself an online privacy tune-up.&nbsp;</p>

<p>Watch on <a href="https://youtu.be/vGERooSp9nU">YouTube Live</a>.&nbsp;</p>

<p>Connect with Electronic Frontier Foundation - <a href="https://www.eff.org/">Website </a>| <a href="https://www.instagram.com/efforg/">Instagram</a> | <a href="https://twitter.com/eff">Twitter</a> | <a href="https://www.facebook.com/eff">Facebook</a></p>

<p>&nbsp;</p>

<p>This event is part of San Francisco's<a href="https://sfpl.org/locations/main-library/bridge-main-5th-floor/connect-tech-week"> Tech Week</a>, May 9–15.</p>

<p>&nbsp;</p>

<p>&nbsp;</p>

LOCATION:Virtual Library
CLASS:PUBLIC
TRANSP:TRANSPARENT
END:VEVENT
BEGIN:VALARM
TRIGGER:-PT1440M
ACTION:DISPLAY
DESCRIPTION:Event Reminder - Presentation: Avoid Scams and Spies
END:VALARM
END:VCALENDAR