BEGIN:VCALENDAR
VERSION:2.0
PRODID:SFPL Web Calendar
BEGIN:VEVENT
UID:31348@sfpl.org
DTSTAMP:20210513T170000Z
DTSTART:20210513T170000Z
DTEND:20210513T183000Z
SUMMARY:演講: 微信使用方法
DESCRIPTION:<p>有安老自助處講解如適用熱門的微信及教用多種功能。來學如何加朋友和使用翻譯功能。</p>

<p>跟安老自助處聯絡：<a href="https://www.selfhelpelderly.org/">官方網</a> ｜<a href="https://www.facebook.com/selfhelpelderlyorg/">臉書</a>｜<a href="https://twitter.com/SelfHelpElderly">推特</a>｜<a href="https://www.instagram.com/selfhelpelderly/">Instagram</a></p>

<p>Self-Help for the Elderly explains why WeChat is such a popular social app with this tour of its main features. You'll also learn how to add friends and use the translate function.&nbsp;&nbsp;</p>

<p>Connect with Self Help for the Elderly - <a href="https://www.selfhelpelderly.org/">Website</a> | <a href="https://www.facebook.com/selfhelpelderlyorg/">Facebook</a> | <a href="https://twitter.com/SelfHelpElderly">Twitter</a> | <a href="https://www.instagram.com/selfhelpelderly/">Instagram</a>&nbsp;</p>

<p>&nbsp;</p>

<p>此活動屬舊金山<a href="https://sfpl.org/locations/main-library/bridge-main-5th-floor/connect-tech-week">科技星期</a>，從五月九號至十五號。</p>

<p>This event is part of San Francisco's<a href="https://sfpl.org/locations/main-library/bridge-main-5th-floor/connect-tech-week"> Tech Week</a>, May 9–15.</p>

LOCATION:Virtual Library
CLASS:PUBLIC
TRANSP:TRANSPARENT
END:VEVENT
BEGIN:VALARM
TRIGGER:-PT1440M
ACTION:DISPLAY
DESCRIPTION:Event Reminder - 演講: 微信使用方法
END:VALARM
END:VCALENDAR