BEGIN:VCALENDAR
VERSION:2.0
PRODID:SFPL Web Calendar
BEGIN:VEVENT
UID:31372@sfpl.org
DTSTAMP:20210806T180000Z
DTSTART:20210806T180000Z
DTEND:20210806T190000Z
SUMMARY:Presentation: Secret Reading Spots in the Presidio
DESCRIPTION:<p>Discover some of the hidden,&nbsp;nature reading spots in the Presidio for your summer reading pleasure!&nbsp;Join Rebekah Berkov, Presidio Trust Community Engagement Specialist for&nbsp;a tour of favorite secret reading nooks for kids all around the Presidio.&nbsp;&nbsp;Reading&nbsp;is fun outside!&nbsp;</p>

LOCATION:Virtual Library
CLASS:PUBLIC
TRANSP:TRANSPARENT
END:VEVENT
BEGIN:VALARM
TRIGGER:-PT1440M
ACTION:DISPLAY
DESCRIPTION:Event Reminder - Presentation: Secret Reading Spots in the Presidio
END:VALARM
END:VCALENDAR